BEGIN:VCALENDAR
VERSION:2.0
PRODID:-//Bearspaw Preschool - ECPv6.15.19//NONSGML v1.0//EN
CALSCALE:GREGORIAN
METHOD:PUBLISH
X-WR-CALNAME:Bearspaw Preschool
X-ORIGINAL-URL:https://bearspawpreschool.com
X-WR-CALDESC:Events for Bearspaw Preschool
REFRESH-INTERVAL;VALUE=DURATION:PT1H
X-Robots-Tag:noindex
X-PUBLISHED-TTL:PT1H
BEGIN:VTIMEZONE
TZID:America/Edmonton
BEGIN:DAYLIGHT
TZOFFSETFROM:-0700
TZOFFSETTO:-0600
TZNAME:MDT
DTSTART:20240310T090000
END:DAYLIGHT
BEGIN:STANDARD
TZOFFSETFROM:-0600
TZOFFSETTO:-0700
TZNAME:MST
DTSTART:20241103T080000
END:STANDARD
BEGIN:DAYLIGHT
TZOFFSETFROM:-0700
TZOFFSETTO:-0600
TZNAME:MDT
DTSTART:20250309T090000
END:DAYLIGHT
BEGIN:STANDARD
TZOFFSETFROM:-0600
TZOFFSETTO:-0700
TZNAME:MST
DTSTART:20251102T080000
END:STANDARD
BEGIN:DAYLIGHT
TZOFFSETFROM:-0700
TZOFFSETTO:-0600
TZNAME:MDT
DTSTART:20260308T090000
END:DAYLIGHT
BEGIN:STANDARD
TZOFFSETFROM:-0600
TZOFFSETTO:-0700
TZNAME:MST
DTSTART:20261101T080000
END:STANDARD
END:VTIMEZONE
BEGIN:VEVENT
DTSTART;TZID=America/Edmonton:20250506T113000
DTEND;TZID=America/Edmonton:20250506T120000
DTSTAMP:20260420T210927
CREATED:20250121T181306Z
LAST-MODIFIED:20250121T181323Z
UID:22088-1746531000-1746532800@bearspawpreschool.com
SUMMARY:Classroom Tours
DESCRIPTION:DATES OF TOURS: \nFEBRUARY 4th – 11:30am to 12pm \nMARCH 4th – 11:30am to 12pm \nAPRIL 8th – 11:30am to 12pm \nMAY 6th – 11:30am to 12pm
URL:https://bearspawpreschool.com/event/classroom-tours-may-6-2025/
LOCATION:The Hall at the Bearspaw Lifestyle Centre
CATEGORIES:Classroom Tours
ATTACH;FMTTYPE=image/jpeg:https://bearspawpreschool.com/wp-content/uploads/2025/01/Class-Tours.jpg
END:VEVENT
END:VCALENDAR