BEGIN:VCALENDAR
VERSION:2.0
PRODID:-//Bearspaw Preschool - ECPv6.15.19//NONSGML v1.0//EN
CALSCALE:GREGORIAN
METHOD:PUBLISH
X-ORIGINAL-URL:https://bearspawpreschool.com
X-WR-CALDESC:Events for Bearspaw Preschool
REFRESH-INTERVAL;VALUE=DURATION:PT1H
X-Robots-Tag:noindex
X-PUBLISHED-TTL:PT1H
BEGIN:VTIMEZONE
TZID:America/Edmonton
BEGIN:DAYLIGHT
TZOFFSETFROM:-0700
TZOFFSETTO:-0600
TZNAME:MDT
DTSTART:20220313T090000
END:DAYLIGHT
BEGIN:STANDARD
TZOFFSETFROM:-0600
TZOFFSETTO:-0700
TZNAME:MST
DTSTART:20221106T080000
END:STANDARD
BEGIN:DAYLIGHT
TZOFFSETFROM:-0700
TZOFFSETTO:-0600
TZNAME:MDT
DTSTART:20230312T090000
END:DAYLIGHT
BEGIN:STANDARD
TZOFFSETFROM:-0600
TZOFFSETTO:-0700
TZNAME:MST
DTSTART:20231105T080000
END:STANDARD
BEGIN:DAYLIGHT
TZOFFSETFROM:-0700
TZOFFSETTO:-0600
TZNAME:MDT
DTSTART:20240310T090000
END:DAYLIGHT
BEGIN:STANDARD
TZOFFSETFROM:-0600
TZOFFSETTO:-0700
TZNAME:MST
DTSTART:20241103T080000
END:STANDARD
BEGIN:DAYLIGHT
TZOFFSETFROM:-0700
TZOFFSETTO:-0600
TZNAME:MDT
DTSTART:20250309T090000
END:DAYLIGHT
BEGIN:STANDARD
TZOFFSETFROM:-0600
TZOFFSETTO:-0700
TZNAME:MST
DTSTART:20251102T080000
END:STANDARD
BEGIN:DAYLIGHT
TZOFFSETFROM:-0700
TZOFFSETTO:-0600
TZNAME:MDT
DTSTART:20260308T090000
END:DAYLIGHT
BEGIN:STANDARD
TZOFFSETFROM:-0600
TZOFFSETTO:-0700
TZNAME:MST
DTSTART:20261101T080000
END:STANDARD
END:VTIMEZONE
BEGIN:VEVENT
DTSTART;VALUE=DATE:20250910
DTEND;VALUE=DATE:20250911
DTSTAMP:20260419T185501
CREATED:20250917T155605Z
LAST-MODIFIED:20250917T155605Z
UID:24925-1757462400-1757548799@bearspawpreschool.com
SUMMARY:STAGGERED ENTRY DAYS JUNIOR KINDERGARTEN (4) PROGRAM
DESCRIPTION:
URL:https://bearspawpreschool.com/event/staggered-entry-days-junior-kindergarten-4-program/
CATEGORIES:Preschool 4
ATTACH;FMTTYPE=image/jpeg:https://bearspawpreschool.com/wp-content/uploads/2023/06/pexels-yan-krukau-8613054.jpg
END:VEVENT
BEGIN:VEVENT
DTSTART;VALUE=DATE:20250909
DTEND;VALUE=DATE:20250910
DTSTAMP:20260419T185501
CREATED:20250917T155655Z
LAST-MODIFIED:20250917T155655Z
UID:24935-1757376000-1757462399@bearspawpreschool.com
SUMMARY:STAGGERED ENTRY DAYS (3) PRESCHOOL PROGRAM
DESCRIPTION:
URL:https://bearspawpreschool.com/event/staggered-entry-days-3-preschool-program/
CATEGORIES:Preschool 3
ATTACH;FMTTYPE=image/jpeg:https://bearspawpreschool.com/wp-content/uploads/2023/06/group-of-small-nursery-school-children-sitting-on-2022-01-18-23-33-45-utc-scaled.jpg
END:VEVENT
BEGIN:VEVENT
DTSTART;VALUE=DATE:20250908
DTEND;VALUE=DATE:20250909
DTSTAMP:20260419T185501
CREATED:20250917T155406Z
LAST-MODIFIED:20250917T155520Z
UID:24898-1757289600-1757375999@bearspawpreschool.com
SUMMARY:STAGGERED ENTRY DAYS JUNIOR KINDERGARTEN (4) PROGRAM
DESCRIPTION:
URL:https://bearspawpreschool.com/event/staggered-entry-days-junior-kindergarten-program/
CATEGORIES:Preschool 4
ATTACH;FMTTYPE=image/jpeg:https://bearspawpreschool.com/wp-content/uploads/2023/06/pexels-yan-krukau-8613054.jpg
END:VEVENT
BEGIN:VEVENT
DTSTART;TZID=America/Edmonton:20250506T113000
DTEND;TZID=America/Edmonton:20250506T120000
DTSTAMP:20260419T185501
CREATED:20250121T181306Z
LAST-MODIFIED:20250121T181323Z
UID:22088-1746531000-1746532800@bearspawpreschool.com
SUMMARY:Classroom Tours
DESCRIPTION:DATES OF TOURS: \nFEBRUARY 4th – 11:30am to 12pm \nMARCH 4th – 11:30am to 12pm \nAPRIL 8th – 11:30am to 12pm \nMAY 6th – 11:30am to 12pm
URL:https://bearspawpreschool.com/event/classroom-tours-may-6-2025/
LOCATION:The Hall at the Bearspaw Lifestyle Centre
CATEGORIES:Classroom Tours
ATTACH;FMTTYPE=image/jpeg:https://bearspawpreschool.com/wp-content/uploads/2025/01/Class-Tours.jpg
END:VEVENT
BEGIN:VEVENT
DTSTART;TZID=America/Edmonton:20250408T113000
DTEND;TZID=America/Edmonton:20250408T120000
DTSTAMP:20260419T185501
CREATED:20250121T181202Z
LAST-MODIFIED:20250121T181224Z
UID:22086-1744111800-1744113600@bearspawpreschool.com
SUMMARY:Classroom Tours
DESCRIPTION:DATES OF TOURS: \nFEBRUARY 4th – 11:30am to 12pm \nMARCH 4th – 11:30am to 12pm \nAPRIL 8th – 11:30am to 12pm \nMAY 6th – 11:30am to 12pm
URL:https://bearspawpreschool.com/event/classroom-tours-april-8-2025/
LOCATION:The Hall at the Bearspaw Lifestyle Centre
CATEGORIES:Classroom Tours
ATTACH;FMTTYPE=image/jpeg:https://bearspawpreschool.com/wp-content/uploads/2025/01/Class-Tours.jpg
END:VEVENT
BEGIN:VEVENT
DTSTART;TZID=America/Edmonton:20250304T113000
DTEND;TZID=America/Edmonton:20250304T120000
DTSTAMP:20260419T185501
CREATED:20250121T181038Z
LAST-MODIFIED:20250121T181123Z
UID:22084-1741087800-1741089600@bearspawpreschool.com
SUMMARY:Classroom Tours
DESCRIPTION:DATES OF TOURS: \nFEBRUARY 4th – 11:30am to 12pm \nMARCH 4th – 11:30am to 12pm \nAPRIL 8th – 11:30am to 12pm \nMAY 6th – 11:30am to 12pm
URL:https://bearspawpreschool.com/event/classroom-tours-march-4-2025/
LOCATION:The Hall at the Bearspaw Lifestyle Centre
CATEGORIES:Classroom Tours
ATTACH;FMTTYPE=image/jpeg:https://bearspawpreschool.com/wp-content/uploads/2025/01/Class-Tours.jpg
END:VEVENT
BEGIN:VEVENT
DTSTART;TZID=America/Edmonton:20250301T130000
DTEND;TZID=America/Edmonton:20250301T143000
DTSTAMP:20260419T185501
CREATED:20250121T182736Z
LAST-MODIFIED:20250121T182736Z
UID:22092-1740834000-1740839400@bearspawpreschool.com
SUMMARY:Annual Art Gala - JR K Program
DESCRIPTION:Annual Art Gala – JR K Preschool Program 1pm to 2:30pm
URL:https://bearspawpreschool.com/event/annual-art-gala-jr-k-program/
LOCATION:The Hall at the Bearspaw Lifestyle Centre
CATEGORIES:Annual Art Gala,Preschool 4
ATTACH;FMTTYPE=image/jpeg:https://bearspawpreschool.com/wp-content/uploads/2025/01/ARt-Gala.jpg
END:VEVENT
BEGIN:VEVENT
DTSTART;TZID=America/Edmonton:20250301T103000
DTEND;TZID=America/Edmonton:20250301T120000
DTSTAMP:20260419T185501
CREATED:20250121T182626Z
LAST-MODIFIED:20250121T182626Z
UID:22090-1740825000-1740830400@bearspawpreschool.com
SUMMARY:Annual Art Gala - Preschool Program
DESCRIPTION:Annual Art Gala – Preschool Program 10:30am to 12pm
URL:https://bearspawpreschool.com/event/annual-art-gala-preschool-program/
LOCATION:The Hall at the Bearspaw Lifestyle Centre
CATEGORIES:Annual Art Gala,Preschool 3
ATTACH;FMTTYPE=image/jpeg:https://bearspawpreschool.com/wp-content/uploads/2025/01/ARt-Gala.jpg
END:VEVENT
BEGIN:VEVENT
DTSTART;TZID=America/Edmonton:20250204T113000
DTEND;TZID=America/Edmonton:20250204T120000
DTSTAMP:20260419T185501
CREATED:20250121T180456Z
LAST-MODIFIED:20250121T180527Z
UID:22063-1738668600-1738670400@bearspawpreschool.com
SUMMARY:Classroom Tours
DESCRIPTION:DATES OF TOURS: \nFEBRUARY 4th – 11:30am to 12pm \nMARCH 4th – 11:30am to 12pm \nAPRIL 8th – 11:30am to 12pm \nMAY 6th – 11:30am to 12pm
URL:https://bearspawpreschool.com/event/classroom-tours-february-4-2025/
LOCATION:The Hall at the Bearspaw Lifestyle Centre
CATEGORIES:Classroom Tours
ATTACH;FMTTYPE=image/jpeg:https://bearspawpreschool.com/wp-content/uploads/2025/01/Class-Tours.jpg
END:VEVENT
BEGIN:VEVENT
DTSTART;TZID=America/Edmonton:20240604T111500
DTEND;TZID=America/Edmonton:20240604T113000
DTSTAMP:20260419T185501
CREATED:20240421T045327Z
LAST-MODIFIED:20240421T045328Z
UID:18023-1717499700-1717500600@bearspawpreschool.com
SUMMARY:Classroom Tours
DESCRIPTION:
URL:https://bearspawpreschool.com/event/classroom-tours-2/
CATEGORIES:Classroom Tours,Open House,Preschool 3,Preschool 4
ATTACH;FMTTYPE=image/png:https://bearspawpreschool.com/wp-content/uploads/2024/04/bp-class-tours.png
END:VEVENT
BEGIN:VEVENT
DTSTART;TZID=America/Edmonton:20240507T111500
DTEND;TZID=America/Edmonton:20240507T113000
DTSTAMP:20260419T185501
CREATED:20240421T045228Z
LAST-MODIFIED:20240421T045228Z
UID:18021-1715080500-1715081400@bearspawpreschool.com
SUMMARY:Classroom Tours
DESCRIPTION:
URL:https://bearspawpreschool.com/event/classroom-tours/
CATEGORIES:Classroom Tours,Open House,Preschool 3,Preschool 4
ATTACH;FMTTYPE=image/png:https://bearspawpreschool.com/wp-content/uploads/2024/04/bp-class-tours.png
END:VEVENT
BEGIN:VEVENT
DTSTART;TZID=America/Edmonton:20240316T103000
DTEND;TZID=America/Edmonton:20240316T143000
DTSTAMP:20260419T185501
CREATED:20240227T165355Z
LAST-MODIFIED:20240227T165355Z
UID:16412-1710585000-1710599400@bearspawpreschool.com
SUMMARY:Annual Art Gala 2024
DESCRIPTION:Save the date parents\, our Art Gala fundraiser is coming soon! \nOur kiddos are working hard on their beautiful art that will be revealed and for purchase at the art gala. \nWe are looking forward to seeing all of you on March 16.
URL:https://bearspawpreschool.com/event/annual-art-gala-2024/
LOCATION:The Hall at the Bearspaw Lifestyle Centre
CATEGORIES:Annual Art Gala,Preschool 3,Preschool 4
ATTACH;FMTTYPE=image/jpeg:https://bearspawpreschool.com/wp-content/uploads/2024/02/429539148_18123778483339202_5031094332038770019_n.jpg
END:VEVENT
BEGIN:VEVENT
DTSTART;TZID=America/Edmonton:20240120T100000
DTEND;TZID=America/Edmonton:20240120T140000
DTSTAMP:20260419T185501
CREATED:20240103T174627Z
LAST-MODIFIED:20240103T174628Z
UID:15574-1705744800-1705759200@bearspawpreschool.com
SUMMARY:Open House
DESCRIPTION:Everyone is invited to come and look at our classrooms for an open house! Bring your child\, or come alone. \nRegistration is now open for FALL 2024. \nWHEN: January 20\, 2024 \nTIME: 10am to 2pm \nWHERE: 253220 Bearspaw Road\, Calgary\, AB \n 
URL:https://bearspawpreschool.com/event/open-house/
CATEGORIES:Open House
ATTACH;FMTTYPE=image/png:https://bearspawpreschool.com/wp-content/uploads/2024/01/bpjk-open-house-2024-jan-2.png
END:VEVENT
BEGIN:VEVENT
DTSTART;VALUE=DATE:20231223
DTEND;VALUE=DATE:20240108
DTSTAMP:20260419T185501
CREATED:20230824T225642Z
LAST-MODIFIED:20230824T225712Z
UID:13752-1703289600-1704671999@bearspawpreschool.com
SUMMARY:Christmas Holidays
DESCRIPTION:Enjoy the Christmas holidays everyone! \n  \nWe will see you in 2024 On January 8th or January 9th.
URL:https://bearspawpreschool.com/event/christmas-holidays/
CATEGORIES:Preschool 3,Preschool 4,STAT Holiday
ATTACH;FMTTYPE=image/jpeg:https://bearspawpreschool.com/wp-content/uploads/2023/08/pexels-kristina-paukshtite-3444345-scaled.jpg
END:VEVENT
BEGIN:VEVENT
DTSTART;VALUE=DATE:20231222
DTEND;VALUE=DATE:20231223
DTSTAMP:20260419T185501
CREATED:20230824T225312Z
LAST-MODIFIED:20230824T225313Z
UID:13750-1703203200-1703289599@bearspawpreschool.com
SUMMARY:4 YR - Last day of Classes
DESCRIPTION:This will be the last day of classes for 2023 for our 4 year program on December 22\, 2023
URL:https://bearspawpreschool.com/event/4-yr-last-day-of-classes/
CATEGORIES:Preschool 4
ATTACH;FMTTYPE=image/jpeg:https://bearspawpreschool.com/wp-content/uploads/2023/06/pexels-artem-podrez-6941442-scaled.jpg
END:VEVENT
BEGIN:VEVENT
DTSTART;VALUE=DATE:20231221
DTEND;VALUE=DATE:20231222
DTSTAMP:20260419T185501
CREATED:20230824T225141Z
LAST-MODIFIED:20230824T225141Z
UID:13748-1703116800-1703203199@bearspawpreschool.com
SUMMARY:3 YR - Last Day of Classes
DESCRIPTION:Last Day of classes for the 3 year program – December 21st\, 2023
URL:https://bearspawpreschool.com/event/3-yr-last-day-of-classes/
CATEGORIES:Preschool 3
ATTACH;FMTTYPE=image/jpeg:https://bearspawpreschool.com/wp-content/uploads/2023/06/portrait-of-focused-multiethnic-kids-with-scissors-2022-12-16-16-46-44-utc-scaled.jpg
END:VEVENT
BEGIN:VEVENT
DTSTART;VALUE=DATE:20231212
DTEND;VALUE=DATE:20231213
DTSTAMP:20260419T185501
CREATED:20230824T225021Z
LAST-MODIFIED:20230824T225022Z
UID:13746-1702339200-1702425599@bearspawpreschool.com
SUMMARY:December Board Meeting
DESCRIPTION:The board will meet for its December meeting on December 12\, 2023.
URL:https://bearspawpreschool.com/event/december-board-meeting/
CATEGORIES:Board Meeting
ATTACH;FMTTYPE=image/jpeg:https://bearspawpreschool.com/wp-content/uploads/2023/06/group-of-asian-and-caucasian-kids-having-fun-in-th-2022-07-26-02-37-04-utc-scaled.jpg
END:VEVENT
BEGIN:VEVENT
DTSTART;VALUE=DATE:20231120
DTEND;VALUE=DATE:20231121
DTSTAMP:20260419T185501
CREATED:20230824T224857Z
LAST-MODIFIED:20230824T224858Z
UID:13744-1700438400-1700524799@bearspawpreschool.com
SUMMARY:P.D DAY
DESCRIPTION:No classes on November 20th for a Professional Day.
URL:https://bearspawpreschool.com/event/p-d-day-2/
CATEGORIES:PD DAY,Preschool 3,Preschool 4
ATTACH;FMTTYPE=image/jpeg:https://bearspawpreschool.com/wp-content/uploads/2023/06/img5.jpg
END:VEVENT
BEGIN:VEVENT
DTSTART;VALUE=DATE:20231114
DTEND;VALUE=DATE:20231115
DTSTAMP:20260419T185501
CREATED:20230824T224805Z
LAST-MODIFIED:20230824T224805Z
UID:13742-1699920000-1700006399@bearspawpreschool.com
SUMMARY:November Board Meeting
DESCRIPTION:The board will meet for its November meeting on November 14\, 2023
URL:https://bearspawpreschool.com/event/november-board-meeting/
CATEGORIES:Board Meeting
ATTACH;FMTTYPE=image/jpeg:https://bearspawpreschool.com/wp-content/uploads/2023/06/pexels-yan-krukau-8613054.jpg
END:VEVENT
BEGIN:VEVENT
DTSTART;VALUE=DATE:20231110
DTEND;VALUE=DATE:20231111
DTSTAMP:20260419T185501
CREATED:20230824T224621Z
LAST-MODIFIED:20230824T224622Z
UID:13739-1699574400-1699660799@bearspawpreschool.com
SUMMARY:Remembrance Day (No Classes)
DESCRIPTION:No classes on November 10th to observe Remembrance Day.
URL:https://bearspawpreschool.com/event/remembrance-day-no-classes/
CATEGORIES:Preschool 4,STAT Holiday
ATTACH;FMTTYPE=image/jpeg:https://bearspawpreschool.com/wp-content/uploads/2023/08/pexels-pixabay-70741-scaled.jpg
END:VEVENT
BEGIN:VEVENT
DTSTART;VALUE=DATE:20231031
DTEND;VALUE=DATE:20231101
DTSTAMP:20260419T185501
CREATED:20230824T224311Z
LAST-MODIFIED:20230824T224312Z
UID:13737-1698710400-1698796799@bearspawpreschool.com
SUMMARY:3 Yr Program - Hallowe'en Party
DESCRIPTION:Hallowe’en Party – 3 Year old program
URL:https://bearspawpreschool.com/event/3-yr-program-halloween-party/
CATEGORIES:Preschool 3
ATTACH;FMTTYPE=image/jpeg:https://bearspawpreschool.com/wp-content/uploads/2023/08/pexels-yaroslav-shuraev-5604950-scaled.jpg
END:VEVENT
BEGIN:VEVENT
DTSTART;VALUE=DATE:20231030
DTEND;VALUE=DATE:20231031
DTSTAMP:20260419T185501
CREATED:20230824T224200Z
LAST-MODIFIED:20230824T224237Z
UID:13732-1698624000-1698710399@bearspawpreschool.com
SUMMARY:4 Yr Program - Hallowe'en Party
DESCRIPTION:Hallowe’en Party – 4 Year old program
URL:https://bearspawpreschool.com/event/halloween-party/
CATEGORIES:Preschool 4
ATTACH;FMTTYPE=image/jpeg:https://bearspawpreschool.com/wp-content/uploads/2023/08/pexels-yaroslav-shuraev-5604950-scaled.jpg
END:VEVENT
BEGIN:VEVENT
DTSTART;VALUE=DATE:20231010
DTEND;VALUE=DATE:20231011
DTSTAMP:20260419T185501
CREATED:20230824T223839Z
LAST-MODIFIED:20230824T223839Z
UID:13730-1696896000-1696982399@bearspawpreschool.com
SUMMARY:October Board Meeting
DESCRIPTION:The board will have its October board meeting today.
URL:https://bearspawpreschool.com/event/october-board-meeting/
CATEGORIES:Board Meeting
ATTACH;FMTTYPE=image/jpeg:https://bearspawpreschool.com/wp-content/uploads/2023/06/pexels-yan-krukau-8612992-scaled.jpg
END:VEVENT
BEGIN:VEVENT
DTSTART;VALUE=DATE:20231009
DTEND;VALUE=DATE:20231010
DTSTAMP:20260419T185501
CREATED:20230824T223730Z
LAST-MODIFIED:20230824T224635Z
UID:13728-1696809600-1696895999@bearspawpreschool.com
SUMMARY:Thanksgiving Day (No Classes)
DESCRIPTION:Happy Thanksgiving – no classes
URL:https://bearspawpreschool.com/event/thanksgiving-day-no-classes/
CATEGORIES:Preschool 3,Preschool 4,STAT Holiday
ATTACH;FMTTYPE=image/jpeg:https://bearspawpreschool.com/wp-content/uploads/2023/06/img7.jpg
END:VEVENT
BEGIN:VEVENT
DTSTART;VALUE=DATE:20231006
DTEND;VALUE=DATE:20231007
DTSTAMP:20260419T185501
CREATED:20230824T223623Z
LAST-MODIFIED:20230824T223624Z
UID:13726-1696550400-1696636799@bearspawpreschool.com
SUMMARY:P.D DAY
DESCRIPTION:Professional Development Day – no classes
URL:https://bearspawpreschool.com/event/p-d-day/
CATEGORIES:PD DAY,Preschool 3,Preschool 4
ATTACH;FMTTYPE=image/jpeg:https://bearspawpreschool.com/wp-content/uploads/2023/06/pexels-ksenia-chernaya-8535237-scaled.jpg
END:VEVENT
BEGIN:VEVENT
DTSTART;VALUE=DATE:20230929
DTEND;VALUE=DATE:20230930
DTSTAMP:20260419T185501
CREATED:20230828T233235Z
LAST-MODIFIED:20230828T233235Z
UID:13786-1695945600-1696031999@bearspawpreschool.com
SUMMARY:NO SCHOOL
DESCRIPTION:NO SCHOOL DUE TO TRUTH AND RECONCILIATION DAY – SEPTEMBER 30TH.
URL:https://bearspawpreschool.com/event/no-school/
CATEGORIES:STAT Holiday
ATTACH;FMTTYPE=image/jpeg:https://bearspawpreschool.com/wp-content/uploads/2023/05/img3-300-260.jpg
END:VEVENT
BEGIN:VEVENT
DTSTART;VALUE=DATE:20230927
DTEND;VALUE=DATE:20230928
DTSTAMP:20260419T185501
CREATED:20230824T223219Z
LAST-MODIFIED:20230824T223220Z
UID:13724-1695772800-1695859199@bearspawpreschool.com
SUMMARY:School Photos
DESCRIPTION:Individual and Class Photos.
URL:https://bearspawpreschool.com/event/school-photos-2/
CATEGORIES:Photo Day,Preschool 3,Preschool 4
ATTACH;FMTTYPE=image/jpeg:https://bearspawpreschool.com/wp-content/uploads/2023/05/img28.jpg
END:VEVENT
BEGIN:VEVENT
DTSTART;VALUE=DATE:20230926
DTEND;VALUE=DATE:20230927
DTSTAMP:20260419T185501
CREATED:20230824T223148Z
LAST-MODIFIED:20230824T223149Z
UID:13722-1695686400-1695772799@bearspawpreschool.com
SUMMARY:School Photos
DESCRIPTION:Individual and Class Photos.
URL:https://bearspawpreschool.com/event/school-photos/
CATEGORIES:Photo Day,Preschool 3,Preschool 4
ATTACH;FMTTYPE=image/jpeg:https://bearspawpreschool.com/wp-content/uploads/2023/05/img26.jpg
END:VEVENT
BEGIN:VEVENT
DTSTART;VALUE=DATE:20230912
DTEND;VALUE=DATE:20230913
DTSTAMP:20260419T185501
CREATED:20230824T211704Z
LAST-MODIFIED:20230824T223044Z
UID:13718-1694476800-1694563199@bearspawpreschool.com
SUMMARY:September Board Meeting
DESCRIPTION:Members of the Board will meet on Tuesday\, September 12th\, 2023.
URL:https://bearspawpreschool.com/event/september-board-meeting/
CATEGORIES:Board Meeting
ATTACH;FMTTYPE=image/png:https://bearspawpreschool.com/wp-content/uploads/2022/11/BEARSPAW-PRESCHOOL-3.png
END:VEVENT
BEGIN:VEVENT
DTSTART;VALUE=DATE:20230912
DTEND;VALUE=DATE:20230913
DTSTAMP:20260419T185501
CREATED:20230824T205833Z
LAST-MODIFIED:20230824T205834Z
UID:13715-1694476800-1694563199@bearspawpreschool.com
SUMMARY:3 Program - FIRST DAY OF CLASSES
DESCRIPTION:Full Classes begin for: \nProgram 4 – September 11th \nProgram 3 – September 12th
URL:https://bearspawpreschool.com/event/3-program-first-day-of-classes/
CATEGORIES:Preschool 3
ATTACH;FMTTYPE=image/jpeg:https://bearspawpreschool.com/wp-content/uploads/2023/06/img16.jpg
END:VEVENT
END:VCALENDAR