BEGIN:VCALENDAR
VERSION:2.0
PRODID:-//Bearspaw Preschool - ECPv6.15.19//NONSGML v1.0//EN
CALSCALE:GREGORIAN
METHOD:PUBLISH
X-WR-CALNAME:Bearspaw Preschool
X-ORIGINAL-URL:https://bearspawpreschool.com
X-WR-CALDESC:Events for Bearspaw Preschool
REFRESH-INTERVAL;VALUE=DURATION:PT1H
X-Robots-Tag:noindex
X-PUBLISHED-TTL:PT1H
BEGIN:VTIMEZONE
TZID:America/Edmonton
BEGIN:DAYLIGHT
TZOFFSETFROM:-0700
TZOFFSETTO:-0600
TZNAME:MDT
DTSTART:20240310T090000
END:DAYLIGHT
BEGIN:STANDARD
TZOFFSETFROM:-0600
TZOFFSETTO:-0700
TZNAME:MST
DTSTART:20241103T080000
END:STANDARD
BEGIN:DAYLIGHT
TZOFFSETFROM:-0700
TZOFFSETTO:-0600
TZNAME:MDT
DTSTART:20250309T090000
END:DAYLIGHT
BEGIN:STANDARD
TZOFFSETFROM:-0600
TZOFFSETTO:-0700
TZNAME:MST
DTSTART:20251102T080000
END:STANDARD
BEGIN:DAYLIGHT
TZOFFSETFROM:-0700
TZOFFSETTO:-0600
TZNAME:MDT
DTSTART:20260308T090000
END:DAYLIGHT
BEGIN:STANDARD
TZOFFSETFROM:-0600
TZOFFSETTO:-0700
TZNAME:MST
DTSTART:20261101T080000
END:STANDARD
END:VTIMEZONE
BEGIN:VEVENT
DTSTART;VALUE=DATE:20251013
DTEND;VALUE=DATE:20251014
DTSTAMP:20260420T121133
CREATED:20250917T161744Z
LAST-MODIFIED:20250917T161744Z
UID:24967-1760313600-1760399999@bearspawpreschool.com
SUMMARY:THANKSGIVING (NO CLASSES)
DESCRIPTION:
URL:https://bearspawpreschool.com/event/thanksgiving-no-classes/
CATEGORIES:STAT Holiday
ATTACH;FMTTYPE=image/png:https://bearspawpreschool.com/wp-content/uploads/2025/09/TURKEY.png
END:VEVENT
BEGIN:VEVENT
DTSTART;VALUE=DATE:20251014
DTEND;VALUE=DATE:20251015
DTSTAMP:20260420T121133
CREATED:20250917T163834Z
LAST-MODIFIED:20250917T163834Z
UID:24998-1760400000-1760486399@bearspawpreschool.com
SUMMARY:PICTURE DAY (3)
DESCRIPTION:
URL:https://bearspawpreschool.com/event/picture-day-3/
CATEGORIES:Photo Day
ATTACH;FMTTYPE=image/png:https://bearspawpreschool.com/wp-content/uploads/2025/09/CAMERA.png
END:VEVENT
BEGIN:VEVENT
DTSTART;VALUE=DATE:20251015
DTEND;VALUE=DATE:20251016
DTSTAMP:20260420T121133
CREATED:20250917T162330Z
LAST-MODIFIED:20250917T163902Z
UID:24973-1760486400-1760572799@bearspawpreschool.com
SUMMARY:PICTURE DAY (4)
DESCRIPTION:
URL:https://bearspawpreschool.com/event/picture-day-2/
CATEGORIES:Photo Day
ATTACH;FMTTYPE=image/png:https://bearspawpreschool.com/wp-content/uploads/2025/09/CAMERA.png
END:VEVENT
BEGIN:VEVENT
DTSTART;VALUE=DATE:20251020
DTEND;VALUE=DATE:20251021
DTSTAMP:20260420T121133
CREATED:20250917T162413Z
LAST-MODIFIED:20250917T162413Z
UID:24975-1760918400-1761004799@bearspawpreschool.com
SUMMARY:PROFESSIONAL DEVELOPMENT DAY (NO CLASSES)
DESCRIPTION:
URL:https://bearspawpreschool.com/event/professional-development-day-no-classes-2/
CATEGORIES:PD DAY
ATTACH;FMTTYPE=image/png:https://bearspawpreschool.com/wp-content/uploads/2025/09/NO-SCHOOL.png
END:VEVENT
BEGIN:VEVENT
DTSTART;VALUE=DATE:20251030
DTEND;VALUE=DATE:20251031
DTSTAMP:20260420T121133
CREATED:20250917T162535Z
LAST-MODIFIED:20250917T163440Z
UID:24977-1761782400-1761868799@bearspawpreschool.com
SUMMARY:HALLOWEEN PARTIES (3)
DESCRIPTION:
URL:https://bearspawpreschool.com/event/halloween-parties/
ATTACH;FMTTYPE=image/png:https://bearspawpreschool.com/wp-content/uploads/2025/09/HALLOWEEN.png
END:VEVENT
BEGIN:VEVENT
DTSTART;VALUE=DATE:20251031
DTEND;VALUE=DATE:20251101
DTSTAMP:20260420T121133
CREATED:20250917T163943Z
LAST-MODIFIED:20250917T163943Z
UID:25001-1761868800-1761955199@bearspawpreschool.com
SUMMARY:HALLOWEEN PARTIES (4)
DESCRIPTION:
URL:https://bearspawpreschool.com/event/halloween-parties-4/
CATEGORIES:Preschool 4
ATTACH;FMTTYPE=image/png:https://bearspawpreschool.com/wp-content/uploads/2025/09/HALLOWEEN.png
END:VEVENT
END:VCALENDAR