BEGIN:VCALENDAR
VERSION:2.0
PRODID:-//Bearspaw Preschool - ECPv6.15.19//NONSGML v1.0//EN
CALSCALE:GREGORIAN
METHOD:PUBLISH
X-ORIGINAL-URL:https://bearspawpreschool.com
X-WR-CALDESC:Events for Bearspaw Preschool
REFRESH-INTERVAL;VALUE=DURATION:PT1H
X-Robots-Tag:noindex
X-PUBLISHED-TTL:PT1H
BEGIN:VTIMEZONE
TZID:America/Edmonton
BEGIN:DAYLIGHT
TZOFFSETFROM:-0700
TZOFFSETTO:-0600
TZNAME:MDT
DTSTART:20240310T090000
END:DAYLIGHT
BEGIN:STANDARD
TZOFFSETFROM:-0600
TZOFFSETTO:-0700
TZNAME:MST
DTSTART:20241103T080000
END:STANDARD
BEGIN:DAYLIGHT
TZOFFSETFROM:-0700
TZOFFSETTO:-0600
TZNAME:MDT
DTSTART:20250309T090000
END:DAYLIGHT
BEGIN:STANDARD
TZOFFSETFROM:-0600
TZOFFSETTO:-0700
TZNAME:MST
DTSTART:20251102T080000
END:STANDARD
BEGIN:DAYLIGHT
TZOFFSETFROM:-0700
TZOFFSETTO:-0600
TZNAME:MDT
DTSTART:20260308T090000
END:DAYLIGHT
BEGIN:STANDARD
TZOFFSETFROM:-0600
TZOFFSETTO:-0700
TZNAME:MST
DTSTART:20261101T080000
END:STANDARD
BEGIN:DAYLIGHT
TZOFFSETFROM:-0700
TZOFFSETTO:-0600
TZNAME:MDT
DTSTART:20270314T090000
END:DAYLIGHT
BEGIN:STANDARD
TZOFFSETFROM:-0600
TZOFFSETTO:-0700
TZNAME:MST
DTSTART:20271107T080000
END:STANDARD
END:VTIMEZONE
BEGIN:VEVENT
DTSTART;VALUE=DATE:20251218
DTEND;VALUE=DATE:20251219
DTSTAMP:20260420T030225
CREATED:20250917T163028Z
LAST-MODIFIED:20250917T163028Z
UID:24989-1766016000-1766102399@bearspawpreschool.com
SUMMARY:LAST DAY OF CLASSES (PJ & MOVIE DAY) - 3
DESCRIPTION:
URL:https://bearspawpreschool.com/event/last-day-of-classes-pj-movie-day-3/
CATEGORIES:Preschool 3
ATTACH;FMTTYPE=image/png:https://bearspawpreschool.com/wp-content/uploads/2025/09/PJ-DAY.png
END:VEVENT
BEGIN:VEVENT
DTSTART;VALUE=DATE:20251219
DTEND;VALUE=DATE:20251220
DTSTAMP:20260420T030225
CREATED:20250917T163054Z
LAST-MODIFIED:20250917T163054Z
UID:24991-1766102400-1766188799@bearspawpreschool.com
SUMMARY:LAST DAY OF CLASSES (PJ & MOVIE DAY) - 4
DESCRIPTION:
URL:https://bearspawpreschool.com/event/last-day-of-classes-pj-movie-day-4/
CATEGORIES:Preschool 4
ATTACH;FMTTYPE=image/png:https://bearspawpreschool.com/wp-content/uploads/2025/09/PJ-DAY.png
END:VEVENT
BEGIN:VEVENT
DTSTART;VALUE=DATE:20251220
DTEND;VALUE=DATE:20260105
DTSTAMP:20260420T030225
CREATED:20250917T163149Z
LAST-MODIFIED:20250917T163149Z
UID:24993-1766188800-1767571199@bearspawpreschool.com
SUMMARY:NO CLASSES - CHRISTMAS BREAK
DESCRIPTION:
URL:https://bearspawpreschool.com/event/no-classes-christmas-break/
CATEGORIES:Preschool 3,Preschool 4
ATTACH;FMTTYPE=image/jpeg:https://bearspawpreschool.com/wp-content/uploads/2025/09/XMAS-BREAK.jpg
END:VEVENT
END:VCALENDAR