BEGIN:VCALENDAR
VERSION:2.0
PRODID:-//Bearspaw Preschool - ECPv6.15.19//NONSGML v1.0//EN
CALSCALE:GREGORIAN
METHOD:PUBLISH
X-ORIGINAL-URL:https://bearspawpreschool.com
X-WR-CALDESC:Events for Bearspaw Preschool
REFRESH-INTERVAL;VALUE=DURATION:PT1H
X-Robots-Tag:noindex
X-PUBLISHED-TTL:PT1H
BEGIN:VTIMEZONE
TZID:America/Edmonton
BEGIN:DAYLIGHT
TZOFFSETFROM:-0700
TZOFFSETTO:-0600
TZNAME:MDT
DTSTART:20240310T090000
END:DAYLIGHT
BEGIN:STANDARD
TZOFFSETFROM:-0600
TZOFFSETTO:-0700
TZNAME:MST
DTSTART:20241103T080000
END:STANDARD
BEGIN:DAYLIGHT
TZOFFSETFROM:-0700
TZOFFSETTO:-0600
TZNAME:MDT
DTSTART:20250309T090000
END:DAYLIGHT
BEGIN:STANDARD
TZOFFSETFROM:-0600
TZOFFSETTO:-0700
TZNAME:MST
DTSTART:20251102T080000
END:STANDARD
BEGIN:DAYLIGHT
TZOFFSETFROM:-0700
TZOFFSETTO:-0600
TZNAME:MDT
DTSTART:20260308T090000
END:DAYLIGHT
BEGIN:STANDARD
TZOFFSETFROM:-0600
TZOFFSETTO:-0700
TZNAME:MST
DTSTART:20261101T080000
END:STANDARD
BEGIN:DAYLIGHT
TZOFFSETFROM:-0700
TZOFFSETTO:-0600
TZNAME:MDT
DTSTART:20270314T090000
END:DAYLIGHT
BEGIN:STANDARD
TZOFFSETFROM:-0600
TZOFFSETTO:-0700
TZNAME:MST
DTSTART:20271107T080000
END:STANDARD
END:VTIMEZONE
BEGIN:VEVENT
DTSTART;VALUE=DATE:20251220
DTEND;VALUE=DATE:20260105
DTSTAMP:20260419T231309
CREATED:20250917T163149Z
LAST-MODIFIED:20250917T163149Z
UID:24993-1766188800-1767571199@bearspawpreschool.com
SUMMARY:NO CLASSES - CHRISTMAS BREAK
DESCRIPTION:
URL:https://bearspawpreschool.com/event/no-classes-christmas-break/
CATEGORIES:Preschool 3,Preschool 4
ATTACH;FMTTYPE=image/jpeg:https://bearspawpreschool.com/wp-content/uploads/2025/09/XMAS-BREAK.jpg
END:VEVENT
BEGIN:VEVENT
DTSTART;VALUE=DATE:20260105
DTEND;VALUE=DATE:20260106
DTSTAMP:20260419T231309
CREATED:20250917T164535Z
LAST-MODIFIED:20250917T164648Z
UID:25003-1767571200-1767657599@bearspawpreschool.com
SUMMARY:CLASSES RESUMES (4)
DESCRIPTION:
URL:https://bearspawpreschool.com/event/class-resumes-4/
CATEGORIES:Preschool 4
ATTACH;FMTTYPE=image/png:https://bearspawpreschool.com/wp-content/uploads/2025/09/1ST-DY-2026.png
END:VEVENT
BEGIN:VEVENT
DTSTART;VALUE=DATE:20260106
DTEND;VALUE=DATE:20260107
DTSTAMP:20260419T231309
CREATED:20250917T164605Z
LAST-MODIFIED:20250917T164605Z
UID:25006-1767657600-1767743999@bearspawpreschool.com
SUMMARY:CLASSES RESUME (3)
DESCRIPTION:
URL:https://bearspawpreschool.com/event/classes-resume-3/
CATEGORIES:Preschool 3
ATTACH;FMTTYPE=image/png:https://bearspawpreschool.com/wp-content/uploads/2025/09/1ST-DY-2026.png
END:VEVENT
BEGIN:VEVENT
DTSTART;VALUE=DATE:20260110
DTEND;VALUE=DATE:20260111
DTSTAMP:20260419T231309
CREATED:20251203T203517Z
LAST-MODIFIED:20251203T203517Z
UID:25829-1768003200-1768089599@bearspawpreschool.com
SUMMARY:PRE-REGISTRATION
DESCRIPTION:PRE-REGISTRATION FOR 2025/26 SCHOOL YEAR \n(RETURNING AND SIBLINGS ENROLLMENT ONLY)
URL:https://bearspawpreschool.com/event/pre-registration/
CATEGORIES:Registration
ATTACH;FMTTYPE=image/jpeg:https://bearspawpreschool.com/wp-content/uploads/2025/12/PRE-register.jpg
END:VEVENT
BEGIN:VEVENT
DTSTART;VALUE=DATE:20260117
DTEND;VALUE=DATE:20260118
DTSTAMP:20260419T231309
CREATED:20251203T203725Z
LAST-MODIFIED:20251203T203725Z
UID:25880-1768608000-1768694399@bearspawpreschool.com
SUMMARY:OPEN HOUSE & REGISTRATION
DESCRIPTION:
URL:https://bearspawpreschool.com/event/open-house-registration/
CATEGORIES:Open House,Registration
ATTACH;FMTTYPE=image/jpeg:https://bearspawpreschool.com/wp-content/uploads/2025/12/OPEN.jpg
END:VEVENT
BEGIN:VEVENT
DTSTART;VALUE=DATE:20260128
DTEND;VALUE=DATE:20260129
DTSTAMP:20260419T231309
CREATED:20251203T204328Z
LAST-MODIFIED:20251203T204328Z
UID:25919-1769558400-1769644799@bearspawpreschool.com
SUMMARY:ORGANIZATIONAL DAY (NO SCHOOL)
DESCRIPTION:
URL:https://bearspawpreschool.com/event/organizational-day-no-school/
CATEGORIES:PD DAY
ATTACH;FMTTYPE=image/png:https://bearspawpreschool.com/wp-content/uploads/2025/09/NO-SCHOOL.png
END:VEVENT
END:VCALENDAR