BEGIN:VCALENDAR
VERSION:2.0
PRODID:-//Bearspaw Preschool - ECPv6.15.19//NONSGML v1.0//EN
CALSCALE:GREGORIAN
METHOD:PUBLISH
X-WR-CALNAME:Bearspaw Preschool
X-ORIGINAL-URL:https://bearspawpreschool.com
X-WR-CALDESC:Events for Bearspaw Preschool
REFRESH-INTERVAL;VALUE=DURATION:PT1H
X-Robots-Tag:noindex
X-PUBLISHED-TTL:PT1H
BEGIN:VTIMEZONE
TZID:America/Edmonton
BEGIN:DAYLIGHT
TZOFFSETFROM:-0700
TZOFFSETTO:-0600
TZNAME:MDT
DTSTART:20250309T090000
END:DAYLIGHT
BEGIN:STANDARD
TZOFFSETFROM:-0600
TZOFFSETTO:-0700
TZNAME:MST
DTSTART:20251102T080000
END:STANDARD
BEGIN:DAYLIGHT
TZOFFSETFROM:-0700
TZOFFSETTO:-0600
TZNAME:MDT
DTSTART:20260308T090000
END:DAYLIGHT
BEGIN:STANDARD
TZOFFSETFROM:-0600
TZOFFSETTO:-0700
TZNAME:MST
DTSTART:20261101T080000
END:STANDARD
BEGIN:DAYLIGHT
TZOFFSETFROM:-0700
TZOFFSETTO:-0600
TZNAME:MDT
DTSTART:20270314T090000
END:DAYLIGHT
BEGIN:STANDARD
TZOFFSETFROM:-0600
TZOFFSETTO:-0700
TZNAME:MST
DTSTART:20271107T080000
END:STANDARD
END:VTIMEZONE
BEGIN:VEVENT
DTSTART;VALUE=DATE:20260212
DTEND;VALUE=DATE:20260213
DTSTAMP:20260419T184940
CREATED:20251203T205324Z
LAST-MODIFIED:20251203T205324Z
UID:25926-1770854400-1770940799@bearspawpreschool.com
SUMMARY:VALENTINES EXCHANGE (3)
DESCRIPTION:
URL:https://bearspawpreschool.com/event/valentines-exchange-3/
CATEGORIES:Preschool 3
ATTACH;FMTTYPE=image/jpeg:https://bearspawpreschool.com/wp-content/uploads/2025/12/VDAY-1.jpg
END:VEVENT
BEGIN:VEVENT
DTSTART;VALUE=DATE:20260212
DTEND;VALUE=DATE:20260213
DTSTAMP:20260419T184940
CREATED:20251203T205450Z
LAST-MODIFIED:20251203T205920Z
UID:25934-1770854400-1770940799@bearspawpreschool.com
SUMMARY:LAST DAY BEFORE WINTER BREAK (3)
DESCRIPTION:
URL:https://bearspawpreschool.com/event/last-day-before-winter-break-3/
CATEGORIES:Preschool 3
ATTACH;FMTTYPE=image/jpeg:https://bearspawpreschool.com/wp-content/uploads/2025/12/LAST-W.jpg
END:VEVENT
BEGIN:VEVENT
DTSTART;VALUE=DATE:20260213
DTEND;VALUE=DATE:20260214
DTSTAMP:20260419T184940
CREATED:20251203T205404Z
LAST-MODIFIED:20251203T205404Z
UID:25932-1770940800-1771027199@bearspawpreschool.com
SUMMARY:VALENTINES EXCHANGE (4)
DESCRIPTION:
URL:https://bearspawpreschool.com/event/valentines-exchange-4/
CATEGORIES:Preschool 4
ATTACH;FMTTYPE=image/jpeg:https://bearspawpreschool.com/wp-content/uploads/2025/12/VDAY-1.jpg
END:VEVENT
BEGIN:VEVENT
DTSTART;VALUE=DATE:20260213
DTEND;VALUE=DATE:20260214
DTSTAMP:20260419T184940
CREATED:20251203T205745Z
LAST-MODIFIED:20251203T205857Z
UID:25936-1770940800-1771027199@bearspawpreschool.com
SUMMARY:LAST DAY BEFORE WINTER BREAK (4)
DESCRIPTION:
URL:https://bearspawpreschool.com/event/last-day-before-winter-break-4/
CATEGORIES:Preschool 4
ATTACH;FMTTYPE=image/jpeg:https://bearspawpreschool.com/wp-content/uploads/2025/12/LAST-W.jpg
END:VEVENT
BEGIN:VEVENT
DTSTART;VALUE=DATE:20260214
DTEND;VALUE=DATE:20260223
DTSTAMP:20260419T184940
CREATED:20251203T210000Z
LAST-MODIFIED:20251203T210000Z
UID:25939-1771027200-1771804799@bearspawpreschool.com
SUMMARY:NO CLASSES (3 & 4)
DESCRIPTION:
URL:https://bearspawpreschool.com/event/no-classes-3-4/
CATEGORIES:Preschool 3,Preschool 4
ATTACH;FMTTYPE=image/jpeg:https://bearspawpreschool.com/wp-content/uploads/2025/12/W-BREAK.jpg
END:VEVENT
BEGIN:VEVENT
DTSTART;VALUE=DATE:20260223
DTEND;VALUE=DATE:20260224
DTSTAMP:20260419T184940
CREATED:20251203T210118Z
LAST-MODIFIED:20251203T210118Z
UID:25941-1771804800-1771891199@bearspawpreschool.com
SUMMARY:CLASSES RESUME (4)
DESCRIPTION:
URL:https://bearspawpreschool.com/event/classes-resume-4/
CATEGORIES:Preschool 4
ATTACH;FMTTYPE=image/jpeg:https://bearspawpreschool.com/wp-content/uploads/2025/12/RES.jpg
END:VEVENT
BEGIN:VEVENT
DTSTART;VALUE=DATE:20260224
DTEND;VALUE=DATE:20260225
DTSTAMP:20260419T184940
CREATED:20251203T210148Z
LAST-MODIFIED:20251203T210148Z
UID:25944-1771891200-1771977599@bearspawpreschool.com
SUMMARY:CLASSES RESUME (3)
DESCRIPTION:
URL:https://bearspawpreschool.com/event/classes-resume-3-2/
CATEGORIES:Preschool 3
ATTACH;FMTTYPE=image/jpeg:https://bearspawpreschool.com/wp-content/uploads/2025/12/RES.jpg
END:VEVENT
END:VCALENDAR